BEGIN:VCALENDAR
VERSION:2.0
PRODID:icalendar-ruby
CALSCALE:GREGORIAN
METHOD:PUBLISH
BEGIN:VEVENT
DTSTAMP:20260425T221509Z
UID:d47c13e2-2327-4ef5-9354-cd5588af9625
DTSTART;VALUE=DATE:20250424
DTEND;VALUE=DATE:20250424
DESCRIPTION:Imperial Valley BMX
LOCATION:1750 Drew Rd  El Centro CA 92243 USA
SUMMARY:Local Race Single
URL:/site/bmx_races/582101
END:VEVENT
END:VCALENDAR
