BEGIN:VCALENDAR
VERSION:2.0
PRODID:icalendar-ruby
CALSCALE:GREGORIAN
METHOD:PUBLISH
BEGIN:VEVENT
DTSTAMP:20260425T173930Z
UID:b79047a9-6467-4698-af3c-4ea31eddcc76
DTSTART;VALUE=DATE:20250714
DTEND;VALUE=DATE:20250714
DESCRIPTION:Imperial Valley BMX
LOCATION:1750 Drew Rd  El Centro CA 92243 USA
SUMMARY:Local Race Single
URL:/site/bmx_races/582062
END:VEVENT
END:VCALENDAR
