BEGIN:VCALENDAR
VERSION:2.0
PRODID:icalendar-ruby
CALSCALE:GREGORIAN
METHOD:PUBLISH
BEGIN:VEVENT
DTSTAMP:20260425T024628Z
UID:c303393f-8d43-4e64-91a2-b5e5a590fe12
DTSTART;VALUE=DATE:20250606
DTEND;VALUE=DATE:20250606
DESCRIPTION:Rock Hill BMX Supercross Track
LOCATION:1307 Riverwalk Parkway  Rock Hill SC 29730 USA
SUMMARY:Local Race Single
URL:/site/bmx_races/581989
END:VEVENT
END:VCALENDAR
