BEGIN:VCALENDAR
VERSION:2.0
PRODID:icalendar-ruby
CALSCALE:GREGORIAN
METHOD:PUBLISH
BEGIN:VEVENT
DTSTAMP:20260424T190037Z
UID:b042cf2c-6ab1-4b25-b694-c32776de917d
DTSTART;VALUE=DATE:20251028
DTEND;VALUE=DATE:20251028
DESCRIPTION:Hampton BMX
LOCATION:901 E Littleback River Rd  Hampton VA 23669 USA
SUMMARY:Practice
URL:/site/bmx_races/581821
END:VEVENT
END:VCALENDAR
