BEGIN:VCALENDAR
VERSION:2.0
PRODID:icalendar-ruby
CALSCALE:GREGORIAN
METHOD:PUBLISH
BEGIN:VEVENT
DTSTAMP:20260426T023344Z
UID:e2fbc304-52b4-463d-aac2-d4c1bd5f7f2d
DTSTART;VALUE=DATE:20251012
DTEND;VALUE=DATE:20251012
DESCRIPTION:Boomtown BMX
LOCATION:17760 Shasta Dam Blvd  Shasta Lake CA 96019 USA
SUMMARY:Local Race Single
URL:/site/bmx_races/581769
END:VEVENT
END:VCALENDAR
