BEGIN:VCALENDAR
VERSION:2.0
PRODID:icalendar-ruby
CALSCALE:GREGORIAN
METHOD:PUBLISH
BEGIN:VEVENT
DTSTAMP:20260424T234123Z
UID:62c7be85-06d5-4982-ba2d-62f4153cc3df
DTSTART;VALUE=DATE:20250327
DTEND;VALUE=DATE:20250327
DESCRIPTION:Woodward Park BMX
LOCATION:7775 N Friant Rd  Fresno CA 93720 USA
SUMMARY:Local Race Single
URL:/site/bmx_races/581469
END:VEVENT
END:VCALENDAR
