BEGIN:VCALENDAR
VERSION:2.0
PRODID:icalendar-ruby
CALSCALE:GREGORIAN
METHOD:PUBLISH
BEGIN:VEVENT
DTSTAMP:20260424T172222Z
UID:8936c3e6-dbee-4245-a12d-6f824a58d11e
DTSTART;VALUE=DATE:20250808
DTEND;VALUE=DATE:20250808
DESCRIPTION:Virgin BMX
LOCATION:425 N. Kolob Rd  Virgin UT 84779 USA
SUMMARY:Local Race Single
URL:/site/bmx_races/581412
END:VEVENT
END:VCALENDAR
