BEGIN:VCALENDAR
VERSION:2.0
PRODID:icalendar-ruby
CALSCALE:GREGORIAN
METHOD:PUBLISH
BEGIN:VEVENT
DTSTAMP:20260425T012838Z
UID:07878349-0874-455f-a7fa-413abd1f8de8
DTSTART;VALUE=DATE:20250416
DTEND;VALUE=DATE:20250416
DESCRIPTION:Virgin BMX
LOCATION:425 N. Kolob Rd  Virgin UT 84779 USA
SUMMARY:Local Race Single
URL:/site/bmx_races/581348
END:VEVENT
END:VCALENDAR
