BEGIN:VCALENDAR
VERSION:2.0
PRODID:icalendar-ruby
CALSCALE:GREGORIAN
METHOD:PUBLISH
BEGIN:VEVENT
DTSTAMP:20260425T152808Z
UID:8b5724fa-e7c0-4e8c-8e9b-6974963d5085
DTSTART;VALUE=DATE:20250626
DTEND;VALUE=DATE:20250626
DESCRIPTION:Electric City BMX
LOCATION:1200 21st Ave So  Great Falls MT 59405 USA
SUMMARY:Local Race Single
URL:/site/bmx_races/581319
END:VEVENT
END:VCALENDAR
