BEGIN:VCALENDAR
VERSION:2.0
PRODID:icalendar-ruby
CALSCALE:GREGORIAN
METHOD:PUBLISH
BEGIN:VEVENT
DTSTAMP:20260424T203844Z
UID:c858996d-b645-47e5-9035-eaf2b5031e45
DTSTART;VALUE=DATE:20251011
DTEND;VALUE=DATE:20251011
DESCRIPTION:I-94 BMX
LOCATION:Delagoon Park 1941 Delagoon Park Dr Fergus Falls MN 56537 USA
SUMMARY:Local Race Single
URL:/site/bmx_races/581301
END:VEVENT
END:VCALENDAR
