BEGIN:VCALENDAR
VERSION:2.0
PRODID:icalendar-ruby
CALSCALE:GREGORIAN
METHOD:PUBLISH
BEGIN:VEVENT
DTSTAMP:20260425T161139Z
UID:573aad9a-d8b4-4842-b271-10344fc7b6b3
DTSTART;VALUE=DATE:20250827
DTEND;VALUE=DATE:20250827
DESCRIPTION:Boulder BMX\, Inc
LOCATION:1799 Commons Way  Boulder City NV 89005 USA
SUMMARY:Practice
URL:/site/bmx_races/581231
END:VEVENT
END:VCALENDAR
