BEGIN:VCALENDAR
VERSION:2.0
PRODID:icalendar-ruby
CALSCALE:GREGORIAN
METHOD:PUBLISH
BEGIN:VEVENT
DTSTAMP:20260426T011149Z
UID:c7d16533-ca04-4a1f-ae94-e5439359da26
DTSTART;VALUE=DATE:20250214
DTEND;VALUE=DATE:20250214
DESCRIPTION:Boulder BMX\, Inc
LOCATION:1799 Commons Way  Boulder City NV 89005 USA
SUMMARY:Local Race Single
URL:/site/bmx_races/581176
END:VEVENT
END:VCALENDAR
