BEGIN:VCALENDAR
VERSION:2.0
PRODID:icalendar-ruby
CALSCALE:GREGORIAN
METHOD:PUBLISH
BEGIN:VEVENT
DTSTAMP:20260425T122946Z
UID:d2ca9cf8-1d8b-4543-b0e7-dcdfde5cd7d2
DTSTART;VALUE=DATE:20250505
DTEND;VALUE=DATE:20250505
DESCRIPTION:Stouffville BMX
LOCATION:3291 Stouffville Rd  Whitchurch-Stouffville ON L4A7X5 CAN
SUMMARY:Practice
URL:/site/bmx_races/581095
END:VEVENT
END:VCALENDAR
