BEGIN:VCALENDAR
VERSION:2.0
PRODID:icalendar-ruby
CALSCALE:GREGORIAN
METHOD:PUBLISH
BEGIN:VEVENT
DTSTAMP:20260424T233823Z
UID:6d25d5ea-a5aa-4488-8120-16c715329ae0
DTSTART;VALUE=DATE:20250116
DTEND;VALUE=DATE:20250116
DESCRIPTION:Lone Star BMX
LOCATION:3950 Eisenhauer Rd  San Antonio TX 78218 USA
SUMMARY:Local Race Single
URL:/site/bmx_races/580710
END:VEVENT
END:VCALENDAR
