BEGIN:VCALENDAR
VERSION:2.0
PRODID:icalendar-ruby
CALSCALE:GREGORIAN
METHOD:PUBLISH
BEGIN:VEVENT
DTSTAMP:20260424T084528Z
UID:287ab2fb-f779-4eef-a006-df5689f20434
DTSTART;VALUE=DATE:20250830
DTEND;VALUE=DATE:20250830
DESCRIPTION:Oak Creek BMX
LOCATION:648 Riverside Ave  Roseville CA 95678 USA
SUMMARY:Local Race Single
URL:/site/bmx_races/580692
END:VEVENT
END:VCALENDAR
