BEGIN:VCALENDAR
VERSION:2.0
PRODID:icalendar-ruby
CALSCALE:GREGORIAN
METHOD:PUBLISH
BEGIN:VEVENT
DTSTAMP:20260424T161737Z
UID:97e056df-ef85-4979-b7b9-e85d73cb33bf
DTSTART;VALUE=DATE:20250806
DTEND;VALUE=DATE:20250806
DESCRIPTION:Oak Creek BMX
LOCATION:648 Riverside Ave  Roseville CA 95678 USA
SUMMARY:Local Race Single
URL:/site/bmx_races/580484
END:VEVENT
END:VCALENDAR
