BEGIN:VCALENDAR
VERSION:2.0
PRODID:icalendar-ruby
CALSCALE:GREGORIAN
METHOD:PUBLISH
BEGIN:VEVENT
DTSTAMP:20260424T160827Z
UID:5451cb20-f56c-4fc1-942d-81cc2ef13836
DTSTART;VALUE=DATE:20250611
DTEND;VALUE=DATE:20250611
DESCRIPTION:Oak Creek BMX
LOCATION:648 Riverside Ave  Roseville CA 95678 USA
SUMMARY:Local Race Single
URL:/site/bmx_races/580476
END:VEVENT
END:VCALENDAR
