BEGIN:VCALENDAR
VERSION:2.0
PRODID:icalendar-ruby
CALSCALE:GREGORIAN
METHOD:PUBLISH
BEGIN:VEVENT
DTSTAMP:20260425T142836Z
UID:acbba746-7d37-496b-80f0-8db3ca3e2a6e
DTSTART;VALUE=DATE:20250526
DTEND;VALUE=DATE:20250526
DESCRIPTION:River Valley BMX
LOCATION:229 S German St  New Ulm MN 56073 USA
SUMMARY:Local Race Single
URL:/site/bmx_races/580434
END:VEVENT
END:VCALENDAR
