BEGIN:VCALENDAR
VERSION:2.0
PRODID:icalendar-ruby
CALSCALE:GREGORIAN
METHOD:PUBLISH
BEGIN:VEVENT
DTSTAMP:20260425T201701Z
UID:a08c0b3c-2fa6-474c-a632-b62bd8bc682d
DTSTART;VALUE=DATE:20250521
DTEND;VALUE=DATE:20250521
DESCRIPTION:Capitol City BMX
LOCATION:5001 Killingsworth Lane  Pflugerville TX 78660 USA
SUMMARY:Local Race Single
URL:/site/bmx_races/580068
END:VEVENT
END:VCALENDAR
