BEGIN:VCALENDAR
VERSION:2.0
PRODID:icalendar-ruby
CALSCALE:GREGORIAN
METHOD:PUBLISH
BEGIN:VEVENT
DTSTAMP:20260425T215247Z
UID:cc65e435-680e-49b8-acce-ba436178415b
DTSTART;VALUE=DATE:20250430
DTEND;VALUE=DATE:20250430
DESCRIPTION:Capitol City BMX
LOCATION:5001 Killingsworth Lane  Pflugerville TX 78660 USA
SUMMARY:Local Race Single
URL:/site/bmx_races/580065
END:VEVENT
END:VCALENDAR
