BEGIN:VCALENDAR
VERSION:2.0
PRODID:icalendar-ruby
CALSCALE:GREGORIAN
METHOD:PUBLISH
BEGIN:VEVENT
DTSTAMP:20260426T040008Z
UID:4a800722-cfbf-403f-bb79-62713856e0a1
DTSTART;VALUE=DATE:20250219
DTEND;VALUE=DATE:20250219
DESCRIPTION:Capitol City BMX
LOCATION:5001 Killingsworth Lane  Pflugerville TX 78660 USA
SUMMARY:Local Race Single
URL:/site/bmx_races/580055
END:VEVENT
END:VCALENDAR
