BEGIN:VCALENDAR
VERSION:2.0
PRODID:icalendar-ruby
CALSCALE:GREGORIAN
METHOD:PUBLISH
BEGIN:VEVENT
DTSTAMP:20260426T023244Z
UID:0de700f4-02b1-4d59-a4e0-1e46a82374cc
DTSTART;VALUE=DATE:20250129
DTEND;VALUE=DATE:20250129
DESCRIPTION:Capitol City BMX
LOCATION:5001 Killingsworth Lane  Pflugerville TX 78660 USA
SUMMARY:Local Race Single
URL:/site/bmx_races/580052
END:VEVENT
END:VCALENDAR
