BEGIN:VCALENDAR
VERSION:2.0
PRODID:icalendar-ruby
CALSCALE:GREGORIAN
METHOD:PUBLISH
BEGIN:VEVENT
DTSTAMP:20260425T103352Z
UID:97253956-f685-48f2-a9d5-195c05e0447d
DTSTART;VALUE=DATE:20251130
DTEND;VALUE=DATE:20251130
DESCRIPTION:Capitol City BMX
LOCATION:5001 Killingsworth Lane  Pflugerville TX 78660 USA
SUMMARY:Local Race Single
URL:/site/bmx_races/580046
END:VEVENT
END:VCALENDAR
