BEGIN:VCALENDAR
VERSION:2.0
PRODID:icalendar-ruby
CALSCALE:GREGORIAN
METHOD:PUBLISH
BEGIN:VEVENT
DTSTAMP:20260424T131335Z
UID:9b235fe2-d1bb-4760-a94b-4fc8d1bd8d4b
DTSTART;VALUE=DATE:20250406
DTEND;VALUE=DATE:20250406
DESCRIPTION:Capitol City BMX
LOCATION:5001 Killingsworth Lane  Pflugerville TX 78660 USA
SUMMARY:Local Race Single
URL:/site/bmx_races/580012
END:VEVENT
END:VCALENDAR
