BEGIN:VCALENDAR
VERSION:2.0
PRODID:icalendar-ruby
CALSCALE:GREGORIAN
METHOD:PUBLISH
BEGIN:VEVENT
DTSTAMP:20260424T120232Z
UID:8e6c0206-8a82-442c-8783-7e1d648e0bdc
DTSTART;VALUE=DATE:20250302
DTEND;VALUE=DATE:20250302
DESCRIPTION:Capitol City BMX
LOCATION:5001 Killingsworth Lane  Pflugerville TX 78660 USA
SUMMARY:Local Race Single
URL:/site/bmx_races/580007
END:VEVENT
END:VCALENDAR
