BEGIN:VCALENDAR
VERSION:2.0
PRODID:icalendar-ruby
CALSCALE:GREGORIAN
METHOD:PUBLISH
BEGIN:VEVENT
DTSTAMP:20260425T015840Z
UID:8f294bc6-953b-411d-97dd-a00332bdb60a
DTSTART;VALUE=DATE:20251003
DTEND;VALUE=DATE:20251003
DESCRIPTION:Hamilton BMX
LOCATION:7 Joe Nuxhall Way  Hamilton OH 45015 USA
SUMMARY:Warnicke Single
URL:/site/bmx_races/579990
END:VEVENT
END:VCALENDAR
