BEGIN:VCALENDAR
VERSION:2.0
PRODID:icalendar-ruby
CALSCALE:GREGORIAN
METHOD:PUBLISH
BEGIN:VEVENT
DTSTAMP:20260424T212622Z
UID:b473aa83-2a22-4acf-b09c-49d894bbe007
DTSTART;VALUE=DATE:20251004
DTEND;VALUE=DATE:20251004
DESCRIPTION:Woodland BMX
LOCATION:880 Victory Hwy  West Greenwich RI 02817 USA
SUMMARY:Local Race Single
URL:/site/bmx_races/579958
END:VEVENT
END:VCALENDAR
