BEGIN:VCALENDAR
VERSION:2.0
PRODID:icalendar-ruby
CALSCALE:GREGORIAN
METHOD:PUBLISH
BEGIN:VEVENT
DTSTAMP:20260425T165352Z
UID:2b6f882a-9401-4126-9b8b-b4d836eb9a38
DTSTART;VALUE=DATE:20250825
DTEND;VALUE=DATE:20250825
DESCRIPTION:Cortez BMX
LOCATION:1425 E Empire St.  Cortez CO 81321 USA
SUMMARY:Local Race Single
URL:/site/bmx_races/579929
END:VEVENT
END:VCALENDAR
