BEGIN:VCALENDAR
VERSION:2.0
PRODID:icalendar-ruby
CALSCALE:GREGORIAN
METHOD:PUBLISH
BEGIN:VEVENT
DTSTAMP:20260424T164953Z
UID:c072072d-350d-45cf-8617-461ef2fef1f0
DTSTART;VALUE=DATE:20250707
DTEND;VALUE=DATE:20250707
DESCRIPTION:Cortez BMX
LOCATION:1425 E Empire St.  Cortez CO 81321 USA
SUMMARY:Local Race Single
URL:/site/bmx_races/579922
END:VEVENT
END:VCALENDAR
