BEGIN:VCALENDAR
VERSION:2.0
PRODID:icalendar-ruby
CALSCALE:GREGORIAN
METHOD:PUBLISH
BEGIN:VEVENT
DTSTAMP:20260426T040012Z
UID:7739dddf-6114-4141-9562-115061ca6985
DTSTART;VALUE=DATE:20250907
DTEND;VALUE=DATE:20250907
DESCRIPTION:Eagle County BMX
LOCATION:1700 Bull Pasture Rd  Eagle CO 81631 USA
SUMMARY:Local Race Single
URL:/site/bmx_races/579910
END:VEVENT
END:VCALENDAR
