BEGIN:VCALENDAR
VERSION:2.0
PRODID:icalendar-ruby
CALSCALE:GREGORIAN
METHOD:PUBLISH
BEGIN:VEVENT
DTSTAMP:20260425T161139Z
UID:0b6b6f5a-45fd-468a-b260-acb031d5632b
DTSTART;VALUE=DATE:20250821
DTEND;VALUE=DATE:20250821
DESCRIPTION:Crow River BMX
LOCATION:3150 Lander Avenue North   St. Michael MN 55376 - 9633  USA
SUMMARY:Clinic
URL:/site/bmx_races/579842
END:VEVENT
END:VCALENDAR
