BEGIN:VCALENDAR
VERSION:2.0
PRODID:icalendar-ruby
CALSCALE:GREGORIAN
METHOD:PUBLISH
BEGIN:VEVENT
DTSTAMP:20260424T201245Z
UID:01709de1-3124-40ee-9a26-32b9bc890284
DTSTART;VALUE=DATE:20130616
DTEND;VALUE=DATE:20130616
DESCRIPTION:Gretna BMX Raceway
LOCATION:800 Gretna Blvd  Gretna LA 70053 USA
SUMMARY:State Race Double
URL:/site/bmx_races/57975
END:VEVENT
END:VCALENDAR
