BEGIN:VCALENDAR
VERSION:2.0
PRODID:icalendar-ruby
CALSCALE:GREGORIAN
METHOD:PUBLISH
BEGIN:VEVENT
DTSTAMP:20260424T091907Z
UID:ab3666fa-c27a-4fff-954e-6aa2afd40eab
DTSTART;VALUE=DATE:20250503
DTEND;VALUE=DATE:20250503
DESCRIPTION:RockStar Energy Bike Park
LOCATION:12257 Kukendahl Rd  Houston TX 77067 USA
SUMMARY:Local Race Single
URL:/site/bmx_races/579502
END:VEVENT
END:VCALENDAR
