BEGIN:VCALENDAR
VERSION:2.0
PRODID:icalendar-ruby
CALSCALE:GREGORIAN
METHOD:PUBLISH
BEGIN:VEVENT
DTSTAMP:20260424T154519Z
UID:1eaa12ca-bc30-4752-baed-c1bcc63c5687
DTSTART;VALUE=DATE:20250805
DTEND;VALUE=DATE:20250805
DESCRIPTION:Omaha BMX
LOCATION:11111 W Maple Rd  Omaha NE 68164 USA
SUMMARY:Practice
URL:/site/bmx_races/579455
END:VEVENT
END:VCALENDAR
