BEGIN:VCALENDAR
VERSION:2.0
PRODID:icalendar-ruby
CALSCALE:GREGORIAN
METHOD:PUBLISH
BEGIN:VEVENT
DTSTAMP:20260424T234801Z
UID:4eae3842-0a77-4a28-ac8e-1b4c3d1606ea
DTSTART;VALUE=DATE:20250813
DTEND;VALUE=DATE:20250813
DESCRIPTION:Johnstown BMX
LOCATION:260 Playground Drive  Johnstown PA 15904 USA
SUMMARY:Practice
URL:/site/bmx_races/579403
END:VEVENT
END:VCALENDAR
