BEGIN:VCALENDAR
VERSION:2.0
PRODID:icalendar-ruby
CALSCALE:GREGORIAN
METHOD:PUBLISH
BEGIN:VEVENT
DTSTAMP:20260426T011520Z
UID:f71c0de9-1637-4543-96fe-3d6cfe09eaba
DTSTART;VALUE=DATE:20250617
DTEND;VALUE=DATE:20250617
DESCRIPTION:Freedom Park BMX Raceway
LOCATION:530 Convair St  Camarillo CA 93010 USA
SUMMARY:Local Race Single
URL:/site/bmx_races/579307
END:VEVENT
END:VCALENDAR
