BEGIN:VCALENDAR
VERSION:2.0
PRODID:icalendar-ruby
CALSCALE:GREGORIAN
METHOD:PUBLISH
BEGIN:VEVENT
DTSTAMP:20260424T215455Z
UID:aaa42880-b8ca-44ef-9b51-756b4985714c
DTSTART;VALUE=DATE:20250529
DTEND;VALUE=DATE:20250529
DESCRIPTION:Freedom Park BMX Raceway
LOCATION:530 Convair St  Camarillo CA 93010 USA
SUMMARY:Local Race Single
URL:/site/bmx_races/579299
END:VEVENT
END:VCALENDAR
