BEGIN:VCALENDAR
VERSION:2.0
PRODID:icalendar-ruby
CALSCALE:GREGORIAN
METHOD:PUBLISH
BEGIN:VEVENT
DTSTAMP:20260426T013003Z
UID:75263259-7e6c-4d66-b356-63895ec45909
DTSTART;VALUE=DATE:20250807
DTEND;VALUE=DATE:20250807
DESCRIPTION:Santa Clara BMX
LOCATION:1371 N Canyon View Dr  Santa Clara UT 84765 USA
SUMMARY:Local Race Single
URL:/site/bmx_races/579115
END:VEVENT
END:VCALENDAR
