BEGIN:VCALENDAR
VERSION:2.0
PRODID:icalendar-ruby
CALSCALE:GREGORIAN
METHOD:PUBLISH
BEGIN:VEVENT
DTSTAMP:20260424T044034Z
UID:0ef2580f-0f60-4587-b548-e962668b4a5e
DTSTART;VALUE=DATE:20250622
DTEND;VALUE=DATE:20250622
DESCRIPTION:Richmond BMX
LOCATION:4401 Hobbs Lane   Next To Church Richmond VA 23231 USA
SUMMARY:Local Race Single
URL:/site/bmx_races/579082
END:VEVENT
END:VCALENDAR
