BEGIN:VCALENDAR
VERSION:2.0
PRODID:icalendar-ruby
CALSCALE:GREGORIAN
METHOD:PUBLISH
BEGIN:VEVENT
DTSTAMP:20260425T115043Z
UID:c7728b3a-3945-46ca-97c0-52e2fd627ff6
DTSTART;VALUE=DATE:20250228
DTEND;VALUE=DATE:20250228
DESCRIPTION:Colorado River BMX
LOCATION:2230 Highland Dr  Bullhead City AZ 86442 USA
SUMMARY:Local Race Single
URL:/site/bmx_races/579028
END:VEVENT
END:VCALENDAR
