BEGIN:VCALENDAR
VERSION:2.0
PRODID:icalendar-ruby
CALSCALE:GREGORIAN
METHOD:PUBLISH
BEGIN:VEVENT
DTSTAMP:20260424T195956Z
UID:6617bbf9-122f-49bb-98df-f2c7b46cd2ef
DTSTART;VALUE=DATE:20250126
DTEND;VALUE=DATE:20250126
DESCRIPTION:Redwood Empire BMX
LOCATION:201 Vance Ave  Samoa CA 95564 USA
SUMMARY:Local Race Single
URL:/site/bmx_races/578739
END:VEVENT
END:VCALENDAR
