BEGIN:VCALENDAR
VERSION:2.0
PRODID:icalendar-ruby
CALSCALE:GREGORIAN
METHOD:PUBLISH
BEGIN:VEVENT
DTSTAMP:20260425T204108Z
UID:12514d74-95c7-4891-a7ea-ed4173105e93
DTSTART;VALUE=DATE:20251016
DTEND;VALUE=DATE:20251016
DESCRIPTION:Whittier Narrows BMX
LOCATION:1601 N Rosemead Blvd  South El Monte CA 91733 USA
SUMMARY:Local Race Single
URL:/site/bmx_races/578677
END:VEVENT
END:VCALENDAR
