BEGIN:VCALENDAR
VERSION:2.0
PRODID:icalendar-ruby
CALSCALE:GREGORIAN
METHOD:PUBLISH
BEGIN:VEVENT
DTSTAMP:20260426T011248Z
UID:ba2afb88-cb53-4a9d-bdd2-10aee7f03293
DTSTART;VALUE=DATE:20250731
DTEND;VALUE=DATE:20250731
DESCRIPTION:Whittier Narrows BMX
LOCATION:1601 N Rosemead Blvd  South El Monte CA 91733 USA
SUMMARY:Local Race Single
URL:/site/bmx_races/578666
END:VEVENT
END:VCALENDAR
