BEGIN:VCALENDAR
VERSION:2.0
PRODID:icalendar-ruby
CALSCALE:GREGORIAN
METHOD:PUBLISH
BEGIN:VEVENT
DTSTAMP:20260424T124436Z
UID:9ec52452-1c39-4f73-84f8-816a48728912
DTSTART;VALUE=DATE:20251106
DTEND;VALUE=DATE:20251106
DESCRIPTION:Tucson BMX
LOCATION:9245 E Irvington  Tucson AZ 85730 USA
SUMMARY:Practice
URL:/site/bmx_races/578502
END:VEVENT
END:VCALENDAR
