BEGIN:VCALENDAR
VERSION:2.0
PRODID:icalendar-ruby
CALSCALE:GREGORIAN
METHOD:PUBLISH
BEGIN:VEVENT
DTSTAMP:20260424T234824Z
UID:03334dad-7e9e-490e-86f0-c5fd1d9ec2ee
DTSTART;VALUE=DATE:20250619
DTEND;VALUE=DATE:20250619
DESCRIPTION:Tucson BMX
LOCATION:9245 E Irvington  Tucson AZ 85730 USA
SUMMARY:Practice
URL:/site/bmx_races/578482
END:VEVENT
END:VCALENDAR
