BEGIN:VCALENDAR
VERSION:2.0
PRODID:icalendar-ruby
CALSCALE:GREGORIAN
METHOD:PUBLISH
BEGIN:VEVENT
DTSTAMP:20260424T234803Z
UID:b2d50548-e8b0-4562-aec1-188776838424
DTSTART;VALUE=DATE:20250501
DTEND;VALUE=DATE:20250501
DESCRIPTION:Tucson BMX
LOCATION:9245 E Irvington  Tucson AZ 85730 USA
SUMMARY:Practice
URL:/site/bmx_races/578475
END:VEVENT
END:VCALENDAR
