BEGIN:VCALENDAR
VERSION:2.0
PRODID:icalendar-ruby
CALSCALE:GREGORIAN
METHOD:PUBLISH
BEGIN:VEVENT
DTSTAMP:20260424T121241Z
UID:131642ac-2739-4b4a-ac6e-605fa5ef989a
DTSTART;VALUE=DATE:20250115
DTEND;VALUE=DATE:20250115
DESCRIPTION:San Diego BMX
LOCATION:3170 Armstrong Street Behind Kearny Mesa Recreation Center San Die
 go CA 92111 USA
SUMMARY:Local Race Single
URL:/site/bmx_races/578410
END:VEVENT
END:VCALENDAR
