BEGIN:VCALENDAR
VERSION:2.0
PRODID:icalendar-ruby
CALSCALE:GREGORIAN
METHOD:PUBLISH
BEGIN:VEVENT
DTSTAMP:20260424T194703Z
UID:9a89787b-29d7-420b-863f-b927d8147c65
DTSTART;VALUE=DATE:20250912
DTEND;VALUE=DATE:20250912
DESCRIPTION:San Diego BMX
LOCATION:3170 Armstrong Street Behind Kearny Mesa Recreation Center San Die
 go CA 92111 USA
SUMMARY:Local Race Single
URL:/site/bmx_races/578395
END:VEVENT
END:VCALENDAR
