BEGIN:VCALENDAR
VERSION:2.0
PRODID:icalendar-ruby
CALSCALE:GREGORIAN
METHOD:PUBLISH
BEGIN:VEVENT
DTSTAMP:20260425T125534Z
UID:9cd2916c-fd3a-4627-8cba-9a58bd974cc9
DTSTART;VALUE=DATE:20250404
DTEND;VALUE=DATE:20250404
DESCRIPTION:Metro BMX
LOCATION:3805 Chester Ave  In The Sam Lynn Ballpark Complex Bakersfield CA 
 93301 USA
SUMMARY:Local Race Single
URL:/site/bmx_races/578180
END:VEVENT
END:VCALENDAR
