BEGIN:VCALENDAR
VERSION:2.0
PRODID:icalendar-ruby
CALSCALE:GREGORIAN
METHOD:PUBLISH
BEGIN:VEVENT
DTSTAMP:20260425T033143Z
UID:18b3cbcd-c151-43e8-8cc1-27c10515770f
DTSTART;VALUE=DATE:20250719
DTEND;VALUE=DATE:20250719
DESCRIPTION:Trumbull BMX
LOCATION:370 Indian Ledge Park Dr  Trumbull CT 06611 USA
SUMMARY:Race for Life Single
URL:/site/bmx_races/578122
END:VEVENT
END:VCALENDAR
